BEGIN:VCALENDAR
VERSION:2.0
PRODID:-//Tukios.com/
BEGIN:VEVENT
UID:0ab6c347-bfde-4ecf-bb03-155d62261080@www.padgettfuneralhome.com
DTSTAMP:20260422T232317Z
DTSTART:20260426T180000Z
DTEND:20260426T190000Z
SUMMARY:Graveside Service
DESCRIPTION:
URL:https://www.padgettfuneralhome.com/obituaries/margaret-kennedy
LOCATION: 9332 hwy 117 north  watha NC 28471
GEO:34.6793112;-77.9417581
END:VEVENT
END:VCALENDAR